BEGIN:VCALENDAR
VERSION:2.0
PRODID:-//Mediationsstelle Brückenschlag e.V. - ECPv5.11.0//NONSGML v1.0//EN
CALSCALE:GREGORIAN
METHOD:PUBLISH
X-WR-CALNAME:Mediationsstelle Brückenschlag e.V.
X-ORIGINAL-URL:https://www.bs-lg.de
X-WR-CALDESC:Veranstaltungen für Mediationsstelle Brückenschlag e.V.
BEGIN:VTIMEZONE
TZID:Europe/Paris
BEGIN:DAYLIGHT
TZOFFSETFROM:+0100
TZOFFSETTO:+0200
TZNAME:CEST
DTSTART:20210328T010000
END:DAYLIGHT
BEGIN:STANDARD
TZOFFSETFROM:+0200
TZOFFSETTO:+0100
TZNAME:CET
DTSTART:20211031T010000
END:STANDARD
END:VTIMEZONE
BEGIN:VEVENT
DTSTART;TZID=Europe/Paris:20211210T160000
DTEND;TZID=Europe/Paris:20211210T190000
DTSTAMP:20260424T024953
CREATED:20210111T142523Z
LAST-MODIFIED:20210111T142523Z
UID:4120-1639152000-1639162800@www.bs-lg.de
SUMMARY:Supervisionsgruppe für MediatorInnen und Coaches in Hamburg\, geschlossene Gruppe
DESCRIPTION:Supervision trägt zu einer effektiven Mediations- und Coachingsarbeit bei.  \nEine Möglichkeit\, ist die Supervision in der Gruppe. Dort schaffen wir einen vertraulichen und vertrauten Rahmen\, in dem Sie für die persönlichen Entwicklungsaufgaben in Kommunikationsprozessen und in der Mediation Raum und Impulse bekommen. \nLeitung: Marion Bremer \nTermine: bestehende Gruppe\, bei Interesse an Einstieg an die Geschäftsstelle wenden unter info@bs-lg.de oder 04131 42211 \nDarüber hinaus bieten wir auch die Möglichkeit für Einzelsupervision an. Nähere Informationen dazu finden Sie hier.
URL:https://www.bs-lg.de/event/supervisionsgruppe-fuer-mediatorinnen-und-coaches-in-hamburg-geschlossene-gruppe-3
CATEGORIES:Angebote für MediatorInnen,Mediationsausbildung
ATTACH;FMTTYPE=image/jpeg:https://www.bs-lg.de/wp-content/uploads/AdobeStock_164446049.jpg
END:VEVENT
END:VCALENDAR