BEGIN:VCALENDAR
VERSION:2.0
PRODID:-//Mediationsstelle Brückenschlag e.V. - ECPv5.11.0//NONSGML v1.0//EN
CALSCALE:GREGORIAN
METHOD:PUBLISH
X-WR-CALNAME:Mediationsstelle Brückenschlag e.V.
X-ORIGINAL-URL:https://www.bs-lg.de
X-WR-CALDESC:Veranstaltungen für Mediationsstelle Brückenschlag e.V.
BEGIN:VTIMEZONE
TZID:Europe/Paris
BEGIN:DAYLIGHT
TZOFFSETFROM:+0100
TZOFFSETTO:+0200
TZNAME:CEST
DTSTART:20220327T010000
END:DAYLIGHT
BEGIN:STANDARD
TZOFFSETFROM:+0200
TZOFFSETTO:+0100
TZNAME:CET
DTSTART:20221030T010000
END:STANDARD
END:VTIMEZONE
BEGIN:VEVENT
DTSTART;TZID=Europe/Paris:20220913T090000
DTEND;TZID=Europe/Paris:20220914T170000
DTSTAMP:20260424T013240
CREATED:20210723T083106Z
LAST-MODIFIED:20210723T083106Z
UID:5189-1663059600-1663174800@www.bs-lg.de
SUMMARY:Schulmediator:innenausbildung Block III (SM LG 18)\, geschlossene Gruppe
DESCRIPTION:Ziel dieser Ausbildung ist es\, die TeilnehmerInnen zur selbständigen Durchführung von Mediationen im Bereich der Schul– und Jugendarbeit zu befähigen. \nDarüber können die erworbenen mediativen Kompetenzen nicht nur im klassischen Setting eingesetzt werden\, sondern auch \n\nin der Ausbildung von SchülerInnen zu SchülermediatorInnen\nin Gesprächen mit SchülerInnen\, KollegInnen\, Schulleitung\, Eltern\nin angeleiteten Konfliktgesprächen in der Klasse und im Klassenrat\num Mediation in den Alltag Ihrer Einrichtung systematisch zu integrieren\n\ngeschlossene Gruppe\, ein Anmeldung ist nicht mehr möglich. \nTermine und Infos zu Schulmediatorenausbildungen finden Sie hier \n 
URL:https://www.bs-lg.de/event/schulmediatorinnenausbildung-block-iii-sm-lg-18-geschlossene-gruppe-2
LOCATION:BRÜCKENSCHLAG e. V.\, Salzstr. 1 (Eingang Auf der Rübekuhle)\,\, Lüneburg\, Niedersachsen\, 21335\, Germany
CATEGORIES:Schule und Erziehung
ATTACH;FMTTYPE=image/jpeg:https://www.bs-lg.de/wp-content/uploads/miteinander_quer.jpg
END:VEVENT
END:VCALENDAR