BEGIN:VCALENDAR
VERSION:2.0
PRODID:-//Mediationsstelle Brückenschlag e.V. - ECPv5.11.0//NONSGML v1.0//EN
CALSCALE:GREGORIAN
METHOD:PUBLISH
X-WR-CALNAME:Mediationsstelle Brückenschlag e.V.
X-ORIGINAL-URL:https://www.bs-lg.de
X-WR-CALDESC:Veranstaltungen für Mediationsstelle Brückenschlag e.V.
BEGIN:VTIMEZONE
TZID:Europe/Paris
BEGIN:DAYLIGHT
TZOFFSETFROM:+0100
TZOFFSETTO:+0200
TZNAME:CEST
DTSTART:20230326T010000
END:DAYLIGHT
BEGIN:STANDARD
TZOFFSETFROM:+0200
TZOFFSETTO:+0100
TZNAME:CET
DTSTART:20231029T010000
END:STANDARD
END:VTIMEZONE
BEGIN:VEVENT
DTSTART;TZID=Europe/Paris:20230202T090000
DTEND;TZID=Europe/Paris:20230203T170000
DTSTAMP:20260424T084303
CREATED:20220307T135615Z
LAST-MODIFIED:20220307T172537Z
UID:6190-1675328400-1675443600@www.bs-lg.de
SUMMARY:Schulmediator:innenausbildung Block I (SM H 12)
DESCRIPTION:Ziel dieser Ausbildung ist es\, die Teilnehmer:innen zur selbständigen Durchführung von Mediationen im Bereich der Schul– und Jugendarbeit zu befähigen. \nDarüber können die erworbenen mediativen Kompetenzen nicht nur im klassischen Setting eingesetzt werden\, sondern auch \n\nin der Ausbildung von Schüler:innen zu Schülermediator:innen\nin Gesprächen mit Schüler:innen\, Kolleg:innen\, Schulleitung\, Eltern\nin angeleiteten Konfliktgesprächen in der Klasse und im Klassenrat\num Mediation in den Alltag Ihrer Einrichtung systematisch zu integrieren\n\nNähere Informationen sowie die Anmeldeunterlagen finden Sie hier. \nWeitere Standorte und Termine finden Sie hier. \n 
URL:https://www.bs-lg.de/event/schulmediatorinnenausbildung-block-i-3
LOCATION:WBG Laatzen\, Wiesenstraße 2\, Laatzen\, Niedersachsen\, 30880\, Deutschland
CATEGORIES:Schule und Erziehung
ATTACH;FMTTYPE=image/jpeg:https://www.bs-lg.de/wp-content/uploads/miteinander_quer.jpg
END:VEVENT
END:VCALENDAR