BEGIN:VCALENDAR
VERSION:2.0
PRODID:-//Mediationsstelle Brückenschlag e.V. - ECPv5.11.0//NONSGML v1.0//EN
CALSCALE:GREGORIAN
METHOD:PUBLISH
X-WR-CALNAME:Mediationsstelle Brückenschlag e.V.
X-ORIGINAL-URL:https://www.bs-lg.de
X-WR-CALDESC:Veranstaltungen für Mediationsstelle Brückenschlag e.V.
BEGIN:VTIMEZONE
TZID:Europe/Paris
BEGIN:DAYLIGHT
TZOFFSETFROM:+0100
TZOFFSETTO:+0200
TZNAME:CEST
DTSTART:20230326T010000
END:DAYLIGHT
BEGIN:STANDARD
TZOFFSETFROM:+0200
TZOFFSETTO:+0100
TZNAME:CET
DTSTART:20231029T010000
END:STANDARD
END:VTIMEZONE
BEGIN:VEVENT
DTSTART;TZID=Europe/Paris:20230622T100000
DTEND;TZID=Europe/Paris:20230624T180000
DTSTAMP:20260424T013016
CREATED:20220502T143115Z
LAST-MODIFIED:20220502T143115Z
UID:6453-1687428000-1687629600@www.bs-lg.de
SUMMARY:Praxiskurs Mediation (P73)\, Block 2\, geschlossene Gruppe
DESCRIPTION:Der Praxiskurs Mediation unterstützt die Weiterentwicklung der eigenen professionellen Gesprächsführungskompetenz und die Vertiefung der Mediationsfähigkeiten. \nEr befähigt zur Durchführung von Mediation in Konflikten\, auch bei erhöhter Komplexität\, zum flexiblen Einsatz unterschiedlicher Methoden\, sowie zur Reflexion von Mediationsprozessen und professionellem Rollenverhalten in der Mediation. \nDer Start in die eigene Mediationspraxis ist\, neben der Erweiterung der Methoden- und Prozessführungskompetenz\, das zentrale Anliegen des Kurses. Die ersten Schritte in die Praxis werden durch Supervision\, Reflexion und Beratung durch die AusbilderInnen begleitet und unterstützt. \nDer Praxiskurs umfasst 72 h inklusive 30 h Supervision sowie ergänzend 12 h Praxisgruppe (selbstorganisiert). \nZugangsvoraussetzung: 120 h Mediationsausbildung \nGeschlossene Gruppe\, keine Anmeldung mehr möglich.
URL:https://www.bs-lg.de/event/praxiskurs-mediation-p71-block-2-geschlossene-gruppe-2
LOCATION:BRÜCKENSCHLAG e. V.\, Salzstr. 1 (Eingang Auf der Rübekuhle)\,\, Lüneburg\, Niedersachsen\, 21335\, Germany
ATTACH;FMTTYPE=image/jpeg:https://www.bs-lg.de/wp-content/uploads/Ausbildung-in-Schulmediation.jpg
END:VEVENT
END:VCALENDAR