BEGIN:VCALENDAR
VERSION:2.0
PRODID:-//Mediationsstelle Brückenschlag e.V. - ECPv5.11.0//NONSGML v1.0//EN
CALSCALE:GREGORIAN
METHOD:PUBLISH
X-WR-CALNAME:Mediationsstelle Brückenschlag e.V.
X-ORIGINAL-URL:https://www.bs-lg.de
X-WR-CALDESC:Veranstaltungen für Mediationsstelle Brückenschlag e.V.
BEGIN:VTIMEZONE
TZID:Europe/Paris
BEGIN:DAYLIGHT
TZOFFSETFROM:+0100
TZOFFSETTO:+0200
TZNAME:CEST
DTSTART:20210328T010000
END:DAYLIGHT
BEGIN:STANDARD
TZOFFSETFROM:+0200
TZOFFSETTO:+0100
TZNAME:CET
DTSTART:20211031T010000
END:STANDARD
END:VTIMEZONE
BEGIN:VEVENT
DTSTART;TZID=Europe/Paris:20210316T170000
DTEND;TZID=Europe/Paris:20210316T190000
DTSTAMP:20260424T060408
CREATED:20210119T113144Z
LAST-MODIFIED:20210119T150032Z
UID:4160-1615914000-1615921200@www.bs-lg.de
SUMMARY:InfoVeranstaltung zum Praxiskurs Mediation (P67) - online
DESCRIPTION:Bei dieser Infoveranstaltung zum Praxiskurs Mediation in Lüneburg ab dem 15. April stellen wir Ihnen die Inhalte der Weiterbildung vor. Sie lernen eine der ReferentInnen und mögliche Mitteilnehmende kennen und können Fragen stellen. \nBitte melden Sie sich in der Geschäftsstelle unter info@bs-lg.de an. \nDer Praxiskurs Mediation unterstützt die Weiterentwicklung der eigenen professionellen Gesprächsführungskompetenz und die Vertiefung der Mediationsfähigkeiten. \nEr befähigt zur Durchführung von Mediation in Konflikten\, auch bei erhöhter Komplexität\, zum flexiblen Einsatz unterschiedlicher Methoden\, sowie zur Reflexion von Mediationsprozessen und professionellem Rollenverhalten in der Mediation. \nDer Start in die eigene Mediationspraxis ist\, neben der Erweiterung der Methoden- und Prozessführungskompetenz\, das zentrale Anliegen des Kurses. Die ersten Schritte in die Praxis werden durch Supervision\, Reflexion und Beratung durch die AusbilderInnen begleitet und unterstützt. \nDer Praxiskurs umfasst 72 h inklusive 30 h Supervision sowie ergänzend 12 h Praxisgruppe (selbstorganisiert). \n  \nDen Flyer zum Praxiskurs finden Sie HIER.
URL:https://www.bs-lg.de/event/praxiskurs-mediation-p67-block-i-3
LOCATION:ONLINE\, via Zoom\, Germany
CATEGORIES:Angebote für MediatorInnen,Mediationsausbildung
ATTACH;FMTTYPE=image/jpeg:https://www.bs-lg.de/wp-content/uploads/Ausbildung-in-Schulmediation.jpg
END:VEVENT
END:VCALENDAR