BEGIN:VCALENDAR
VERSION:2.0
PRODID:-//Mediationsstelle Brückenschlag e.V. - ECPv5.11.0//NONSGML v1.0//EN
CALSCALE:GREGORIAN
METHOD:PUBLISH
X-WR-CALNAME:Mediationsstelle Brückenschlag e.V.
X-ORIGINAL-URL:https://www.bs-lg.de
X-WR-CALDESC:Veranstaltungen für Mediationsstelle Brückenschlag e.V.
BEGIN:VTIMEZONE
TZID:Europe/Paris
BEGIN:DAYLIGHT
TZOFFSETFROM:+0100
TZOFFSETTO:+0200
TZNAME:CEST
DTSTART:20230326T010000
END:DAYLIGHT
BEGIN:STANDARD
TZOFFSETFROM:+0200
TZOFFSETTO:+0100
TZNAME:CET
DTSTART:20231029T010000
END:STANDARD
END:VTIMEZONE
BEGIN:VEVENT
DTSTART;TZID=Europe/Paris:20230913T090000
DTEND;TZID=Europe/Paris:20230913T180000
DTSTAMP:20260424T012936
CREATED:20210126T173312Z
LAST-MODIFIED:20230118T140937Z
UID:4246-1694595600-1694628000@www.bs-lg.de
SUMMARY:No Blame Approach - Mobbingintervention ohne Schuldzuweisung - ONLINE
DESCRIPTION:für SchulsozialarbeiterInnen\, SchulmediatorInnen\, BeratungslehrerInnen\, Mobbinginterventionsteams \nDer „No Blame Approach“ hilft Mobbing in der Schule wirksam zu begegnen. Der Ansatz zielt in erster Linie darauf\, Lösungen für das gemobbte Kind zu entwickeln und das Leiden für den betroffenen Schüler/die betroffene Schülerin zu beenden. \nSeminarzeiten\n13.09.23 von 9-18 Uhr \nReferent\nAlex Krohn \nKosten\n€ 150\,- pro Person\, bei zwei oder mehr Teilnehmern von einer Einrichtung/Schule gewähren wir 10% Rabatt. \nweitere Informationen und Anmeldung hier
URL:https://www.bs-lg.de/event/no-blame-approach-mobbingintervention-ohne-schuldzuweisung-2-2
LOCATION:ONLINE\, via Zoom\, Germany
CATEGORIES:Schule und Erziehung
ATTACH;FMTTYPE=image/jpeg:https://www.bs-lg.de/wp-content/uploads/NBA_Beitragsbild.jpg
END:VEVENT
END:VCALENDAR