BEGIN:VCALENDAR
VERSION:2.0
PRODID:-//Mediationsstelle Brückenschlag e.V. - ECPv5.11.0//NONSGML v1.0//EN
CALSCALE:GREGORIAN
METHOD:PUBLISH
X-WR-CALNAME:Mediationsstelle Brückenschlag e.V.
X-ORIGINAL-URL:https://www.bs-lg.de
X-WR-CALDESC:Veranstaltungen für Mediationsstelle Brückenschlag e.V.
BEGIN:VTIMEZONE
TZID:Europe/Paris
BEGIN:DAYLIGHT
TZOFFSETFROM:+0100
TZOFFSETTO:+0200
TZNAME:CEST
DTSTART:20220327T010000
END:DAYLIGHT
BEGIN:STANDARD
TZOFFSETFROM:+0200
TZOFFSETTO:+0100
TZNAME:CET
DTSTART:20221030T010000
END:STANDARD
END:VTIMEZONE
BEGIN:VEVENT
DTSTART;TZID=Europe/Paris:20220511T093000
DTEND;TZID=Europe/Paris:20220511T173000
DTSTAMP:20260424T013010
CREATED:20211221T092654Z
LAST-MODIFIED:20211221T092654Z
UID:5893-1652261400-1652290200@www.bs-lg.de
SUMMARY:No Blame Approach - Mobbingintervention ohne Schuldzuweisung
DESCRIPTION:für Schulsozialarbeiter:innen\, Schulmediator:innen\, Beratungslehrer:innen\, Mobbinginterventionsteams \nDer „No Blame Approach“ hilft Mobbing in der Schule wirksam zu begegnen. Der Ansatz zielt in erster Linie darauf\, Lösungen für das gemobbte Kind zu entwickeln und das Leiden für den betroffenen Schüler/die betroffene Schülerin zu beenden. \nSeminarzeiten\nWBG Laatzen\, Wiesenstraße 2\, 30880 Laatzen \nSeminarzeiten\n11.05.2022 von 9:30 – 17:30 Uhr \nReferent\nAlex Krohn \nKosten\n€ 150\,- pro Person\, bei zwei oder mehr Teilnehmern von einer Einrichtung/Schule gewähren wir 10% Rabatt. \nweitere Informationen und Anmeldung hier
URL:https://www.bs-lg.de/event/no-blame-approach-mobbingintervention-ohne-schuldzuweisung-2-2-2-2
LOCATION:WBG Laatzen\, Wiesenstraße 2\, Laatzen\, Niedersachsen\, 30880\, Deutschland
CATEGORIES:Schule und Erziehung
ATTACH;FMTTYPE=image/jpeg:https://www.bs-lg.de/wp-content/uploads/NBA_Beitragsbild.jpg
END:VEVENT
END:VCALENDAR