BEGIN:VCALENDAR
VERSION:2.0
PRODID:-//Mediationsstelle Brückenschlag e.V. - ECPv5.11.0//NONSGML v1.0//EN
CALSCALE:GREGORIAN
METHOD:PUBLISH
X-WR-CALNAME:Mediationsstelle Brückenschlag e.V.
X-ORIGINAL-URL:https://www.bs-lg.de
X-WR-CALDESC:Veranstaltungen für Mediationsstelle Brückenschlag e.V.
BEGIN:VTIMEZONE
TZID:Europe/Paris
BEGIN:DAYLIGHT
TZOFFSETFROM:+0100
TZOFFSETTO:+0200
TZNAME:CEST
DTSTART:20220327T010000
END:DAYLIGHT
BEGIN:STANDARD
TZOFFSETFROM:+0200
TZOFFSETTO:+0100
TZNAME:CET
DTSTART:20221030T010000
END:STANDARD
END:VTIMEZONE
BEGIN:VEVENT
DTSTART;TZID=Europe/Paris:20220314T190000
DTEND;TZID=Europe/Paris:20220314T210000
DTSTAMP:20260424T072512
CREATED:20210318T163931Z
LAST-MODIFIED:20220210T095518Z
UID:4577-1647284400-1647291600@www.bs-lg.de
SUMMARY:Informationsveranstaltung zum Aufbaukurs Mediative Prozessbegleitung in Organisationen (MPB06)
DESCRIPTION:Der Aufbaukurs „Mediative Prozessbegleitung in Organisationen“ zielt darauf ab\, Mediationskompetenz zu einer Beratungskompetenz eigener Art auszubauen\, die Organisationen in ihrer Gesamtentwicklung prozessual begleitet. \nDie Fortbildung wendet sich an MediatorInnen\, die Erfahrungen mit dem System Organisation gemacht haben und ein Praxisprojekt (eine mediative Prozessbegleitung in einer Organisation) durchführen können. \nDen Flyer zur Weiterbildung finden Sie  hier. \nBei der Informationsveranstaltung stellt der Referent Frank Beckmann die Inhalte der Fortbildung vor und es können offene Fragen geklärt werden. \nAnmeldung unter: info@bs-lg.de oder 04131 42211 \n  \n 
URL:https://www.bs-lg.de/event/mediative-prozessbegleitung-in-organisationen-block-i-3
LOCATION:ONLINE\, via Zoom\, Germany
CATEGORIES:Angebote für MediatorInnen,Mediationsausbildung
ATTACH;FMTTYPE=image/jpeg:https://www.bs-lg.de/wp-content/uploads/AdobeStocklala1-e1567499881399.jpg
END:VEVENT
END:VCALENDAR