BEGIN:VCALENDAR
VERSION:2.0
PRODID:-//Mediationsstelle Brückenschlag e.V. - ECPv5.11.0//NONSGML v1.0//EN
CALSCALE:GREGORIAN
METHOD:PUBLISH
X-WR-CALNAME:Mediationsstelle Brückenschlag e.V.
X-ORIGINAL-URL:https://www.bs-lg.de
X-WR-CALDESC:Veranstaltungen für Mediationsstelle Brückenschlag e.V.
BEGIN:VTIMEZONE
TZID:Europe/Paris
BEGIN:DAYLIGHT
TZOFFSETFROM:+0100
TZOFFSETTO:+0200
TZNAME:CEST
DTSTART:20230326T010000
END:DAYLIGHT
BEGIN:STANDARD
TZOFFSETFROM:+0200
TZOFFSETTO:+0100
TZNAME:CET
DTSTART:20231029T010000
END:STANDARD
END:VTIMEZONE
BEGIN:VEVENT
DTSTART;TZID=Europe/Paris:20231123T093000
DTEND;TZID=Europe/Paris:20231125T180000
DTSTAMP:20260424T042137
CREATED:20230911T082314Z
LAST-MODIFIED:20230911T082314Z
UID:7482-1700731800-1700935200@www.bs-lg.de
SUMMARY:Mediation in Teams und Gruppen in Hamburg
DESCRIPTION:In unseren Wahlkursen werden Spezialisierungen in verschiedenen Praxisfeldern der Mediation angeboten. Die Wahlkurse umfassen 20 h an drei Tagen (Do-Sa). \nZugangsvoraussetzung: mind. 60 h Mediationsausbildung \nSeminarinhalte \n\nBesonderheiten des Anwendungsbereiches Gruppe und des Kontextes Team\nKonfliktfelder in Teams und Gruppen\nArbeiten mit und in Teams\nMethoden der Beteiligung und Transparenz\, der Fokussierung und Bündelung\n\nBereits ausgebucht!
URL:https://www.bs-lg.de/event/mediation-in-teams-und-gruppen-in-hamburg-3
CATEGORIES:Angebote für MediatorInnen,Mediationsausbildung
ATTACH;FMTTYPE=image/jpeg:https://www.bs-lg.de/wp-content/uploads/Kopfsilhouetten-denkend-scaled.jpg
END:VEVENT
END:VCALENDAR