BEGIN:VCALENDAR
VERSION:2.0
PRODID:-//Mediationsstelle Brückenschlag e.V. - ECPv5.11.0//NONSGML v1.0//EN
CALSCALE:GREGORIAN
METHOD:PUBLISH
X-WR-CALNAME:Mediationsstelle Brückenschlag e.V.
X-ORIGINAL-URL:https://www.bs-lg.de
X-WR-CALDESC:Veranstaltungen für Mediationsstelle Brückenschlag e.V.
BEGIN:VTIMEZONE
TZID:Europe/Paris
BEGIN:DAYLIGHT
TZOFFSETFROM:+0100
TZOFFSETTO:+0200
TZNAME:CEST
DTSTART:20240331T010000
END:DAYLIGHT
BEGIN:STANDARD
TZOFFSETFROM:+0200
TZOFFSETTO:+0100
TZNAME:CET
DTSTART:20241027T010000
END:STANDARD
END:VTIMEZONE
BEGIN:VEVENT
DTSTART;TZID=Europe/Paris:20241128T093000
DTEND;TZID=Europe/Paris:20241130T180000
DTSTAMP:20260424T054838
CREATED:20230911T081757Z
LAST-MODIFIED:20240201T094435Z
UID:7476-1732786200-1732989600@www.bs-lg.de
SUMMARY:Mediation in der Arbeitswelt/Wirtschaft in Lüneburg
DESCRIPTION:In unseren Wahlkursen werden Spezialisierungen in verschiedenen Praxisfeldern der Mediation angeboten. Die Wahlkurse umfassen 20 h an drei Tagen (Do-Sa). \nZugangsvoraussetzung: mind. 60 h Mediationsausbildung \nSeminarinhalte \n\nAuftragsklärung\nUmgang mit Rollen und Funktionen\nFormen der Beteiligung\nMediation und Führungshandeln\n\n  \nNähere Informationen und die Anmeldeunterlagen finden Sie hier.
URL:https://www.bs-lg.de/event/mediation-der-arbeitswelt-lueneburg-3
CATEGORIES:Angebote für MediatorInnen,Mediationsausbildung
ATTACH;FMTTYPE=image/jpeg:https://www.bs-lg.de/wp-content/uploads/Konsens-1-scaled.jpg
END:VEVENT
END:VCALENDAR