BEGIN:VCALENDAR
VERSION:2.0
PRODID:-//Mediationsstelle Brückenschlag e.V. - ECPv5.11.0//NONSGML v1.0//EN
CALSCALE:GREGORIAN
METHOD:PUBLISH
X-WR-CALNAME:Mediationsstelle Brückenschlag e.V.
X-ORIGINAL-URL:https://www.bs-lg.de
X-WR-CALDESC:Veranstaltungen für Mediationsstelle Brückenschlag e.V.
BEGIN:VTIMEZONE
TZID:Europe/Paris
BEGIN:DAYLIGHT
TZOFFSETFROM:+0100
TZOFFSETTO:+0200
TZNAME:CEST
DTSTART:20210328T010000
END:DAYLIGHT
BEGIN:STANDARD
TZOFFSETFROM:+0200
TZOFFSETTO:+0100
TZNAME:CET
DTSTART:20211031T010000
END:STANDARD
END:VTIMEZONE
BEGIN:VEVENT
DTSTART;TZID=Europe/Paris:20211118T093000
DTEND;TZID=Europe/Paris:20211120T180000
DTSTAMP:20260424T024435
CREATED:20210204T121513Z
LAST-MODIFIED:20210215T115907Z
UID:4380-1637227800-1637431200@www.bs-lg.de
SUMMARY:Mediation in der Arbeitswelt/Wirtschaft in Hamburg
DESCRIPTION:In unseren Wahlkursen werden Spezialisierungen in verschiedenen Praxisfeldern der Mediation angeboten. Die Wahlkurse umfassen 20 h an drei Tagen (Do-Sa). \nZugangsvoraussetzung: mind. 60 h Mediationsausbildung \nSeminarinhalte \n\nAuftragsklärung\nUmgang mit Rollen und Funktionen\nFormen der Beteiligung\nMediation und Führungshandeln\n\n  \nNähere Informationen und die Anmeldeunterlagen finden Sie hier.
URL:https://www.bs-lg.de/event/mediation-der-arbeitswelt-2
LOCATION:Seniorenzentrum St. Markus\, Gärtnerstr. 63\, Hamburg\, 20253
CATEGORIES:Angebote für MediatorInnen,Mediationsausbildung
ATTACH;FMTTYPE=image/jpeg:https://www.bs-lg.de/wp-content/uploads/Konsens-1-scaled.jpg
END:VEVENT
END:VCALENDAR