BEGIN:VCALENDAR
VERSION:2.0
PRODID:-//Mediationsstelle Brückenschlag e.V. - ECPv5.11.0//NONSGML v1.0//EN
CALSCALE:GREGORIAN
METHOD:PUBLISH
X-WR-CALNAME:Mediationsstelle Brückenschlag e.V.
X-ORIGINAL-URL:https://www.bs-lg.de
X-WR-CALDESC:Veranstaltungen für Mediationsstelle Brückenschlag e.V.
BEGIN:VTIMEZONE
TZID:Europe/Paris
BEGIN:DAYLIGHT
TZOFFSETFROM:+0100
TZOFFSETTO:+0200
TZNAME:CEST
DTSTART:20220327T010000
END:DAYLIGHT
BEGIN:STANDARD
TZOFFSETFROM:+0200
TZOFFSETTO:+0100
TZNAME:CET
DTSTART:20221030T010000
END:STANDARD
END:VTIMEZONE
BEGIN:VEVENT
DTSTART;TZID=Europe/Paris:20221118T160000
DTEND;TZID=Europe/Paris:20221118T200000
DTSTAMP:20260423T205719
CREATED:20210125T163918Z
LAST-MODIFIED:20220318T140103Z
UID:4226-1668787200-1668801600@www.bs-lg.de
SUMMARY:Lüneburger Mediationsforum
DESCRIPTION:„Ein Hauch von Psychodrama“\nDie Aktionsmethode Psychodrama hat zum Ziel\, Begegnungen zwischen Menschen herzustellen bzw. diese zu verbessern. Sie arbeitet mit der Technik des Rollentausches. Dieser ermöglicht den Beteiligten einen Perspektivwechsel: sie schauen auf sich\, auf den/die anderen\, auf den Konflikt aus anderer Perspektive und entwickeln so neue Handlungsoptionen. \nDie Arbeit mit psychodramatischen Methoden ist als ein Tool für Berater:innen\, Supervisor:innen und Coaches gut geeignet. \nBeim Mediationsforum wird das Verfahrendes psychodramatischen Handelns vorgestellt und anhand einer kurzen gemeinsamen Fallarbeit veranschaulicht. Im Anschluss wollen wir gemeinsam über den Einsatz dieser Methode in der Praxis nachdenken und Ideen entwickeln. \nReferentin \nSusanne Dräger\, Dipl. Supervisorin( DGSv)\, Erwachsenenbildnerin\, Psychodramaleiterin( DFP) \nKosten \n€ 40\,- ermäßigt für BRÜCKENSCHLAG-Mitglieder auf € 30\,- \nOrt\nFREIRAUM Lüneburg\, Salzstr. 1 (Eingang Auf der Rübekuhle) \nAnmeldung\nMediationsstelle Brückenschlag e.V.\, Salzstr. 1\, 21335 Lüneburg\, info@bs-lg.de\, 04131 42211 \nAnmeldeunterlagen finden Sie hier. \n 
URL:https://www.bs-lg.de/event/lueneburger-mediationsforum
LOCATION:BRÜCKENSCHLAG e. V.\, Salzstr. 1 (Eingang Auf der Rübekuhle)\,\, Lüneburg\, Niedersachsen\, 21335\, Germany
CATEGORIES:Angebote für MediatorInnen
ATTACH;FMTTYPE=image/jpeg:https://www.bs-lg.de/wp-content/uploads/AdobeStock_380905434-beschnitten-scaled.jpeg
END:VEVENT
END:VCALENDAR