BEGIN:VCALENDAR
VERSION:2.0
PRODID:-//Mediationsstelle Brückenschlag e.V. - ECPv5.11.0//NONSGML v1.0//EN
CALSCALE:GREGORIAN
METHOD:PUBLISH
X-WR-CALNAME:Mediationsstelle Brückenschlag e.V.
X-ORIGINAL-URL:https://www.bs-lg.de
X-WR-CALDESC:Veranstaltungen für Mediationsstelle Brückenschlag e.V.
BEGIN:VTIMEZONE
TZID:Europe/Paris
BEGIN:DAYLIGHT
TZOFFSETFROM:+0100
TZOFFSETTO:+0200
TZNAME:CEST
DTSTART:20220327T010000
END:DAYLIGHT
BEGIN:STANDARD
TZOFFSETFROM:+0200
TZOFFSETTO:+0100
TZNAME:CET
DTSTART:20221030T010000
END:STANDARD
END:VTIMEZONE
BEGIN:VEVENT
DTSTART;TZID=Europe/Paris:20221111T093000
DTEND;TZID=Europe/Paris:20221111T173000
DTSTAMP:20260423T191514
CREATED:20210224T141247Z
LAST-MODIFIED:20220927T125158Z
UID:4485-1668159000-1668187800@www.bs-lg.de
SUMMARY:Kinder können streiten lernen - AUSGEBUCHT
DESCRIPTION:Interaktives ONLINE-Seminar\n\nMit Hilfe von Erwachsenen können auch kleine Kinder eine gewaltfreie Streitkultur einüben. Unser Fortbildungsangebot zielt darauf ab\, konkrete Hilfen an die Hand zu geben\, wie Sie: \n\n\n\n\n\ninder in aufgebrachten Streitsituationen trennen und trösten\,\n\n\n\ndurch deeskalierendes Eingreifen \n\n\n\nim Streit zwischen Kindern vermitteln können\,\n\n\n\ndurch konkrete Hilfe und Methoden der Mediation \n\n\n\nKinder streitfähig machen\,\n\n\n\ndurch Ansätze zur Förderung Sozialen Lernens und damit verbunden den gezielten Einsatz von Spielen und Übungen zu diesem Thema. \nOrt\ninteraktives Online-Seminar via Zoom \nReferentin\nMone Drews \nKosten\n€ 150\,- pro Person\, bei zwei oder mehr Teilnehmern von einer Einrichtung/Schule gewähren wir 10% Rabatt. \nDiese Veranstaltung ist ausgebucht. Weitere Termine finden Sie hier.
URL:https://www.bs-lg.de/event/kinder-koennen-streiten-lernen
LOCATION:ONLINE\, via Zoom\, Germany
CATEGORIES:Kita,Schule und Erziehung
ATTACH;FMTTYPE=image/png:https://www.bs-lg.de/wp-content/uploads/Kinder_weiss.png
END:VEVENT
END:VCALENDAR