BEGIN:VCALENDAR
VERSION:2.0
PRODID:-//Mediationsstelle Brückenschlag e.V. - ECPv5.11.0//NONSGML v1.0//EN
CALSCALE:GREGORIAN
METHOD:PUBLISH
X-WR-CALNAME:Mediationsstelle Brückenschlag e.V.
X-ORIGINAL-URL:https://www.bs-lg.de
X-WR-CALDESC:Veranstaltungen für Mediationsstelle Brückenschlag e.V.
BEGIN:VTIMEZONE
TZID:Europe/Paris
BEGIN:DAYLIGHT
TZOFFSETFROM:+0100
TZOFFSETTO:+0200
TZNAME:CEST
DTSTART:20210328T010000
END:DAYLIGHT
BEGIN:STANDARD
TZOFFSETFROM:+0200
TZOFFSETTO:+0100
TZNAME:CET
DTSTART:20211031T010000
END:STANDARD
END:VTIMEZONE
BEGIN:VEVENT
DTSTART;TZID=Europe/Paris:20210120T180000
DTEND;TZID=Europe/Paris:20210120T200000
DTSTAMP:20260424T011704
CREATED:20201214T150642Z
LAST-MODIFIED:20201214T150803Z
UID:3963-1611165600-1611172800@www.bs-lg.de
SUMMARY:InfoVeranstaltung zur Ausbildung in Schulmediation - ONLINE
DESCRIPTION:Unter den Stichworten Demokratisierung des Schulalltags\, Gewaltprävention\, Förderung sozialen Lernens\, Inklusion und Arbeit in der Ganztagsschule haben Ansätze der Mediation Eingang in alle Schulformen\, in Horte und Jugendzentren. \nZiel der Schulmediatorenausbildung ist es\, die Teilnehmenden zur selbständigen Durchführung von Mediationen im Bereich der Schul– und Jugendarbeit zu befähigen. \nBei dieser InfoVeranstaltung gibt Alex Krohn einen Überblick über den Aufbau und die Inhalte der Ausbildung und es können offene Fragen direkt im Gespräch geklärt werden. \nTermine des nächstenn Durchganges in Hannover: 22.-23.02.2021\, 23.-24.03.2021\n11.-12.05.2021\, 17.-18.06.2021\, 29.-30.09.2021 \nMehr Informationen finden Sie hier.
URL:https://www.bs-lg.de/event/infoveranstaltung-zur-ausbildung-in-schulmediation-online
CATEGORIES:Schule und Erziehung
END:VEVENT
END:VCALENDAR