BEGIN:VCALENDAR
VERSION:2.0
PRODID:-//Mediationsstelle Brückenschlag e.V. - ECPv5.11.0//NONSGML v1.0//EN
CALSCALE:GREGORIAN
METHOD:PUBLISH
X-WR-CALNAME:Mediationsstelle Brückenschlag e.V.
X-ORIGINAL-URL:https://www.bs-lg.de
X-WR-CALDESC:Veranstaltungen für Mediationsstelle Brückenschlag e.V.
BEGIN:VTIMEZONE
TZID:Europe/Paris
BEGIN:DAYLIGHT
TZOFFSETFROM:+0100
TZOFFSETTO:+0200
TZNAME:CEST
DTSTART:20210328T010000
END:DAYLIGHT
BEGIN:STANDARD
TZOFFSETFROM:+0200
TZOFFSETTO:+0100
TZNAME:CET
DTSTART:20211031T010000
END:STANDARD
END:VTIMEZONE
BEGIN:VEVENT
DTSTART;TZID=Europe/Paris:20210315T180000
DTEND;TZID=Europe/Paris:20210315T200000
DTSTAMP:20260424T013150
CREATED:20210111T143948Z
LAST-MODIFIED:20210111T143948Z
UID:4128-1615831200-1615838400@www.bs-lg.de
SUMMARY:InfoVeranstaltung zur Ausbildung in Schulmediation - ONLINE
DESCRIPTION:Unter den Stichworten Demokratisierung des Schulalltags\, Gewaltprävention\, Förderung sozialen Lernens\, Inklusion und Arbeit in der Ganztagsschule haben Ansätze der Mediation Eingang in alle Schulformen\, in Horte und Jugendzentren. \nZiel der Schulmediatorenausbildung ist es\, die Teilnehmenden zur selbständigen Durchführung von Mediationen im Bereich der Schul– und Jugendarbeit zu befähigen. \nBei dieser InfoVeranstaltung gibt Alex Krohn einen Überblick über den Aufbau und die Inhalte der Ausbildung und es können offene Fragen direkt im Gespräch geklärt werden. \nTermine des nächstenn Durchganges in Lüneburg: 10.-11.05.2021\, 22.-23.06.2021\, 13.-14.09.2021\, 02.-03.11.2021\, 01.-02.12.2021 \nDen Flyer zur Ausbildung und die Anmeldeunterlagen finden Sie hier.
URL:https://www.bs-lg.de/event/infoveranstaltung-zur-ausbildung-in-schulmediation-online-2
LOCATION:ONLINE\, via Zoom\, Germany
CATEGORIES:Schule und Erziehung
END:VEVENT
END:VCALENDAR