BEGIN:VCALENDAR
VERSION:2.0
PRODID:-//Mediationsstelle Brückenschlag e.V. - ECPv5.11.0//NONSGML v1.0//EN
CALSCALE:GREGORIAN
METHOD:PUBLISH
X-WR-CALNAME:Mediationsstelle Brückenschlag e.V.
X-ORIGINAL-URL:https://www.bs-lg.de
X-WR-CALDESC:Veranstaltungen für Mediationsstelle Brückenschlag e.V.
BEGIN:VTIMEZONE
TZID:Europe/Paris
BEGIN:DAYLIGHT
TZOFFSETFROM:+0100
TZOFFSETTO:+0200
TZNAME:CEST
DTSTART:20240331T010000
END:DAYLIGHT
BEGIN:STANDARD
TZOFFSETFROM:+0200
TZOFFSETTO:+0100
TZNAME:CET
DTSTART:20241027T010000
END:STANDARD
END:VTIMEZONE
BEGIN:VEVENT
DTSTART;TZID=Europe/Paris:20240129T180000
DTEND;TZID=Europe/Paris:20240129T180000
DTSTAMP:20260424T042157
CREATED:20230821T100736Z
LAST-MODIFIED:20230821T100736Z
UID:7335-1706551200-1706551200@www.bs-lg.de
SUMMARY:InfoVeranstaltung zur Ausbildung in Schulmediation - ONLINE
DESCRIPTION:Unter den Stichworten Demokratisierung des Schulalltags\, Gewaltprävention\, Förderung sozialen Lernens\, Inklusion und Arbeit in der Ganztagsschule haben Ansätze der Mediation Eingang in alle Schulformen\, in Horte und Jugendzentren. \nZiel der Schulmediatorenausbildung ist es\, die Teilnehmenden zur selbständigen Durchführung von Mediationen im Bereich der Schul– und Jugendarbeit zu befähigen. \nBei dieser InfoVeranstaltung gibt Alex Krohn einen Überblick über den Aufbau und die Inhalte der Ausbildung und es können offene Fragen direkt im Gespräch geklärt werden. \nTermine des nächsten Durchganges in Lüneburg: 09.-10.04.2024\, 15.-16.05.2024\, 17.-18.06.2024\, 03.-04.09.2024\, 12.-13.11.2024 \nDen Flyer zur Ausbildung und die Anmeldeunterlagen folgen in Kürze.
URL:https://www.bs-lg.de/event/infoveranstaltung-zur-ausbildung-in-schulmediation-online-2-2-3
CATEGORIES:Schule und Erziehung
ATTACH;FMTTYPE=image/jpeg:https://www.bs-lg.de/wp-content/uploads/Eingangsbild_neu.jpg
END:VEVENT
END:VCALENDAR