BEGIN:VCALENDAR
VERSION:2.0
PRODID:-//Mediationsstelle Brückenschlag e.V. - ECPv5.11.0//NONSGML v1.0//EN
CALSCALE:GREGORIAN
METHOD:PUBLISH
X-WR-CALNAME:Mediationsstelle Brückenschlag e.V.
X-ORIGINAL-URL:https://www.bs-lg.de
X-WR-CALDESC:Veranstaltungen für Mediationsstelle Brückenschlag e.V.
BEGIN:VTIMEZONE
TZID:Europe/Paris
BEGIN:DAYLIGHT
TZOFFSETFROM:+0100
TZOFFSETTO:+0200
TZNAME:CEST
DTSTART:20230326T010000
END:DAYLIGHT
BEGIN:STANDARD
TZOFFSETFROM:+0200
TZOFFSETTO:+0100
TZNAME:CET
DTSTART:20231029T010000
END:STANDARD
END:VTIMEZONE
BEGIN:VEVENT
DTSTART;TZID=Europe/Paris:20230831T180000
DTEND;TZID=Europe/Paris:20230831T200000
DTSTAMP:20260423T224731
CREATED:20211208T161040Z
LAST-MODIFIED:20230817T101302Z
UID:5870-1693504800-1693512000@www.bs-lg.de
SUMMARY:Infoabend zum Grundkurs Mediation in Lüneburg (LG30)
DESCRIPTION:Bei dieser Infoveranstaltung zu dem Grundkurs Mediation in Lüneburg ab September 2023 stellen wir Ihnen die Inhalte der Weiterbildung vor. Sie lernen eine:n der Referent:innen und mögliche Mitteilnehmende kennen und können Fragen stellen. \nBitte melden Sie sich in der Geschäftsstelle unter info@bs-lg.de an. \nIm Grundkurs beschäftigen wir uns mit dem Phasenverlauf der Mediation und ihren grundlegenden Methoden. \nElemente aus der Gesprächstherapie\, der „Gewaltfreien Kommunikation“\, der Klärungshilfe sowie aus Moderation und lösungsorientierter Gesprächsführung werden eingesetzt und anwendungsbezogen trainiert. \nPersönliche Bedürfnisse und Gefühle spielen in der Konfliktbearbeitung eine große Rolle. Ein zentrales Anliegen im Grundkurs ist es\, zu lernen\, diese wahrzunehmen und mit ihnen umzugehen. \nIn selbständig arbeitenden Kleingruppen (Intervisionsgruppe) werden die erworbenen Mediationskenntnisse durch Rollenspiele und Übungen vertieft. \nZeitlicher Umfang: jeweils 108 h plus 16 h Intervision. Die Ausbildung ist als Bildungsurlaub in Norddeutschland anerkannt. \nAusführliche Informationen zu unserer Ausbildung finden Sie hier. \nNähere Informationen zu Terminen\, Kosten usw. finden Sie hier. \n 
URL:https://www.bs-lg.de/event/infoabend-zum-grundkurs-lg29-2
LOCATION:ONLINE\, via Zoom\, Germany
CATEGORIES:Mediationsausbildung,Online-Abend via Zoom
ATTACH;FMTTYPE=image/jpeg:https://www.bs-lg.de/wp-content/uploads/Ausbildung_Beitragsbild-1.jpg
END:VEVENT
END:VCALENDAR