BEGIN:VCALENDAR
VERSION:2.0
PRODID:-//Mediationsstelle Brückenschlag e.V. - ECPv5.11.0//NONSGML v1.0//EN
CALSCALE:GREGORIAN
METHOD:PUBLISH
X-WR-CALNAME:Mediationsstelle Brückenschlag e.V.
X-ORIGINAL-URL:https://www.bs-lg.de
X-WR-CALDESC:Veranstaltungen für Mediationsstelle Brückenschlag e.V.
BEGIN:VTIMEZONE
TZID:Europe/Paris
BEGIN:DAYLIGHT
TZOFFSETFROM:+0100
TZOFFSETTO:+0200
TZNAME:CEST
DTSTART:20210328T010000
END:DAYLIGHT
BEGIN:STANDARD
TZOFFSETFROM:+0200
TZOFFSETTO:+0100
TZNAME:CET
DTSTART:20211031T010000
END:STANDARD
END:VTIMEZONE
BEGIN:VEVENT
DTSTART;TZID=Europe/Paris:20210720T180000
DTEND;TZID=Europe/Paris:20210720T193000
DTSTAMP:20260424T060509
CREATED:20210528T101601Z
LAST-MODIFIED:20210528T101601Z
UID:4865-1626804000-1626809400@www.bs-lg.de
SUMMARY:InfoVeranstaltung zum Grundkurs Mediation in Lüneburg (LG28) - ONLINE
DESCRIPTION:Bei dieser Infoveranstaltung zu den Grundkursen Mediation in Lüneburg ab dem 11. November 2021 stellen wir Ihnen die Inhalte der Weiterbildung vor. Sie lernen eine:n der Referent:innen und mögliche Mitteilnehmende kennen und können Fragen stellen. \nDie Veranstaltung findet online via Zoom statt. \nBitte melden Sie sich in der Geschäftsstelle unter info@bs-lg.de oder 04131 42211 an.\n \nIm Grundkurs beschäftigen wir uns mit dem Phasenverlauf der Mediation und ihren grundlegenden Methoden. \nElemente aus der Gesprächstherapie\, der „Gewaltfreien Kommunikation“\, der Klärungshilfe sowie aus Moderation und lösungsorientierter Gesprächsführung werden eingesetzt und anwendungsbezogen trainiert. \nPersönliche Bedürfnisse und Gefühle spielen in der Konfliktbearbeitung eine große Rolle. Ein zentrales Anliegen im Grundkurs ist es\, zu lernen\, diese wahrzunehmen und mit ihnen umzugehen. \nIn selbständig arbeitenden Kleingruppen (Intervisionsgruppe) werden die erworbenen Mediationskenntnisse durch Rollenspiele und Übungen vertieft. \nZeitlicher Umfang: jeweils 108 h plus 16 h Intervision. Die Ausbildung ist als Bildungsurlaub in Norddeutschland anerkannt. \nAusführliche Informationen zu unserer Ausbildung finden Sie hier. \nDen Flyer und die Anmeldeunterlagne zur Ausbildung finden Sie hier.
URL:https://www.bs-lg.de/event/grundkurs-mediation-lg28_info
LOCATION:ONLINE\, via Zoom\, Germany
CATEGORIES:Mediationsausbildung
ATTACH;FMTTYPE=image/jpeg:https://www.bs-lg.de/wp-content/uploads/Grundkurs_klein.jpg
END:VEVENT
END:VCALENDAR