BEGIN:VCALENDAR
VERSION:2.0
PRODID:-//Mediationsstelle Brückenschlag e.V. - ECPv5.11.0//NONSGML v1.0//EN
CALSCALE:GREGORIAN
METHOD:PUBLISH
X-WR-CALNAME:Mediationsstelle Brückenschlag e.V.
X-ORIGINAL-URL:https://www.bs-lg.de
X-WR-CALDESC:Veranstaltungen für Mediationsstelle Brückenschlag e.V.
BEGIN:VTIMEZONE
TZID:Europe/Paris
BEGIN:DAYLIGHT
TZOFFSETFROM:+0100
TZOFFSETTO:+0200
TZNAME:CEST
DTSTART:20210328T010000
END:DAYLIGHT
BEGIN:STANDARD
TZOFFSETFROM:+0200
TZOFFSETTO:+0100
TZNAME:CET
DTSTART:20211031T010000
END:STANDARD
END:VTIMEZONE
BEGIN:VEVENT
DTSTART;TZID=Europe/Paris:20210422T100000
DTEND;TZID=Europe/Paris:20210424T180000
DTSTAMP:20260424T042202
CREATED:20201214T124423Z
LAST-MODIFIED:20201214T124423Z
UID:3956-1619085600-1619287200@www.bs-lg.de
SUMMARY:Grundkurs Mediation (LG27)\, Block IV\, geschlossene Gruppe
DESCRIPTION:Im Grundkurs beschäftigen wir uns mit dem Phasenverlauf der Mediation und ihren grundlegenden Methoden. \nElemente aus der Gesprächstherapie\, der „Gewaltfreien Kommunikation“\, der Klärungshilfe sowie aus Moderation und lösungsorientierter Gesprächsführung werden eingesetzt und anwendungsbezogen trainiert. \nPersönliche Bedürfnisse und Gefühle spielen in der Konfliktbearbeitung eine große Rolle. Ein zentrales Anliegen im Grundkurs ist es\, zu lernen\, diese wahrzunehmen und mit ihnen umzugehen. \nBlock IV des Grundkurses in Lüneburg\, geschlossene Gruppe\, ein Anmeldung ist nicht mehr möglich. \nTermine und Informationen zu weiteren Grundkursen finden Sie hier.
URL:https://www.bs-lg.de/event/grundkurs-mediation-lg27-block-iv-geschlossene-gruppe
LOCATION:BRÜCKENSCHLAG e. V.\, Salzstr. 1 (Eingang Auf der Rübekuhle)\,\, Lüneburg\, Niedersachsen\, 21335\, Germany
CATEGORIES:Mediationsausbildung
ATTACH;FMTTYPE=image/jpeg:https://www.bs-lg.de/wp-content/uploads/Grundkurs_klein.jpg
END:VEVENT
END:VCALENDAR