BEGIN:VCALENDAR
VERSION:2.0
PRODID:-//Mediationsstelle Brückenschlag e.V. - ECPv5.11.0//NONSGML v1.0//EN
CALSCALE:GREGORIAN
METHOD:PUBLISH
X-WR-CALNAME:Mediationsstelle Brückenschlag e.V.
X-ORIGINAL-URL:https://www.bs-lg.de
X-WR-CALDESC:Veranstaltungen für Mediationsstelle Brückenschlag e.V.
BEGIN:VTIMEZONE
TZID:Europe/Paris
BEGIN:DAYLIGHT
TZOFFSETFROM:+0100
TZOFFSETTO:+0200
TZNAME:CEST
DTSTART:20240331T010000
END:DAYLIGHT
BEGIN:STANDARD
TZOFFSETFROM:+0200
TZOFFSETTO:+0100
TZNAME:CET
DTSTART:20241027T010000
END:STANDARD
END:VTIMEZONE
BEGIN:VEVENT
DTSTART;TZID=Europe/Paris:20240404T100000
DTEND;TZID=Europe/Paris:20240406T180000
DTSTAMP:20260424T041955
CREATED:20230911T100258Z
LAST-MODIFIED:20240201T093042Z
UID:7509-1712224800-1712426400@www.bs-lg.de
SUMMARY:Grundkurs Mediation in Oldenburg (OL06)\, Block 1
DESCRIPTION:Im Grundkurs beschäftigen wir uns mit dem Phasenverlauf der Mediation und ihren grundlegenden Methoden. \nElemente aus der Gesprächstherapie\, der „Gewaltfreien Kommunikation“\, der Klärungshilfe sowie aus Moderation und lösungsorientierter Gesprächsführung werden eingesetzt und anwendungsbezogen trainiert. \nPersönliche Bedürfnisse und Gefühle spielen in der Konfliktbearbeitung eine große Rolle. Ein zentrales Anliegen im Grundkurs ist es\, zu lernen\, diese wahrzunehmen und mit ihnen umzugehen. \nTermine\n04.-06.04.2024\n23.-25.05.2024\n20.-22.06.2024\n15.-17.08.2024\n12.-14.09.2024\n07.-09.11.2024 \nDo bis Sa\, jeweils 10–18 Uhr \nIntervisionstage (Vorschlag)\n27.04.2024\, 08.06.2024\, 03.08.2024\, 14.09.2024\, 26.10.2024 \nReferent:innen\nFrank Beckmann\, Ausbilder BM®\nJonas Binder\, Mediator und Rechtsanwalt \nKosten\n€ 2.450\,- (Ratenzahlung möglich) \nAnmeldung\nMediationsstelle BRÜCKENSCHLAG e.V.\nFlyer und Anmeldeunterlagen finden Sie hier. \n  \n 
URL:https://www.bs-lg.de/event/grundkurs-mediation-in-oldenburg-ol04-block-1-2
CATEGORIES:Mediationsausbildung
ATTACH;FMTTYPE=image/jpeg:https://www.bs-lg.de/wp-content/uploads/Grundkurs_klein.jpg
END:VEVENT
END:VCALENDAR