BEGIN:VCALENDAR
VERSION:2.0
PRODID:-//Mediationsstelle Brückenschlag e.V. - ECPv5.11.0//NONSGML v1.0//EN
CALSCALE:GREGORIAN
METHOD:PUBLISH
X-WR-CALNAME:Mediationsstelle Brückenschlag e.V.
X-ORIGINAL-URL:https://www.bs-lg.de
X-WR-CALDESC:Veranstaltungen für Mediationsstelle Brückenschlag e.V.
BEGIN:VTIMEZONE
TZID:Europe/Paris
BEGIN:DAYLIGHT
TZOFFSETFROM:+0100
TZOFFSETTO:+0200
TZNAME:CEST
DTSTART:20220327T010000
END:DAYLIGHT
BEGIN:STANDARD
TZOFFSETFROM:+0200
TZOFFSETTO:+0100
TZNAME:CET
DTSTART:20221030T010000
END:STANDARD
END:VTIMEZONE
BEGIN:VEVENT
DTSTART;TZID=Europe/Paris:20221215T100000
DTEND;TZID=Europe/Paris:20221217T180000
DTSTAMP:20260424T042132
CREATED:20210601T093245Z
LAST-MODIFIED:20220120T164412Z
UID:4928-1671098400-1671300000@www.bs-lg.de
SUMMARY:Grundkurs Mediation in Hamburg (HH27)\, Block 6\, geschlossene Gruppe
DESCRIPTION:Im Grundkurs beschäftigen wir uns mit dem Phasenverlauf der Mediation und ihren grundlegenden Methoden. \nElemente aus der Gesprächstherapie\, der „Gewaltfreien Kommunikation“\, der Klärungshilfe sowie aus Moderation und lösungsorientierter Gesprächsführung werden eingesetzt und anwendungsbezogen trainiert. \nPersönliche Bedürfnisse und Gefühle spielen in der Konfliktbearbeitung eine große Rolle. Ein zentrales Anliegen im Grundkurs ist es\, zu lernen\, diese wahrzunehmen und mit ihnen umzugehen. \nOrt\nHAMBURG \ngeschlossene Gruppe\, keine Anmeldung mehr möglich.\n \nWeitere Grundkurse – auch an anderen Standorten – finden Sie hier.
URL:https://www.bs-lg.de/event/grundkurs-mediation-in-hamburg-hh27-block-6
LOCATION:Seniorenzentrum St. Markus\, Gärtnerstr. 63\, Hamburg\, 20253
CATEGORIES:Mediationsausbildung
ATTACH;FMTTYPE=image/jpeg:https://www.bs-lg.de/wp-content/uploads/Grundkurs_klein.jpg
END:VEVENT
END:VCALENDAR