BEGIN:VCALENDAR
VERSION:2.0
PRODID:-//Mediationsstelle Brückenschlag e.V. - ECPv5.11.0//NONSGML v1.0//EN
CALSCALE:GREGORIAN
METHOD:PUBLISH
X-WR-CALNAME:Mediationsstelle Brückenschlag e.V.
X-ORIGINAL-URL:https://www.bs-lg.de
X-WR-CALDESC:Veranstaltungen für Mediationsstelle Brückenschlag e.V.
BEGIN:VTIMEZONE
TZID:Europe/Paris
BEGIN:DAYLIGHT
TZOFFSETFROM:+0100
TZOFFSETTO:+0200
TZNAME:CEST
DTSTART:20240331T010000
END:DAYLIGHT
BEGIN:STANDARD
TZOFFSETFROM:+0200
TZOFFSETTO:+0100
TZNAME:CET
DTSTART:20241027T010000
END:STANDARD
END:VTIMEZONE
BEGIN:VEVENT
DTSTART;TZID=Europe/Paris:20240215T100000
DTEND;TZID=Europe/Paris:20240217T180000
DTSTAMP:20260424T011741
CREATED:20230911T103746Z
LAST-MODIFIED:20230911T103746Z
UID:7505-1707991200-1708192800@www.bs-lg.de
SUMMARY:Grundkurs Mediation in Hamburg (HH29)\, Block 1
DESCRIPTION:Im Grundkurs beschäftigen wir uns mit dem Phasenverlauf der Mediation und ihren grundlegenden Methoden. \nElemente aus der Gesprächstherapie\, der „Gewaltfreien Kommunikation“\, der Klärungshilfe sowie aus Moderation und lösungsorientierter Gesprächsführung werden eingesetzt und anwendungsbezogen trainiert. \nPersönliche Bedürfnisse und Gefühle spielen in der Konfliktbearbeitung eine große Rolle. Ein zentrales Anliegen im Grundkurs ist es\, zu lernen\, diese wahrzunehmen und mit ihnen umzugehen. \nTermine\n15.-17.02.2024\n14.-16.03.2024\n25.-27.04.2024\n30.05.-01.06.2024\n11.-13.07.2024\n12.-14.09.2024 \nDo bis Sa\, jeweils 10–18 Uhr \nIntervisionstage (Vorschlag)\n02.03.2024\, 20.04.2024\, 18.05.2024\, 22.06.2024\, 31.08.2024 \nOrt\nHAMBURG \nReferent:innen \nMarion Bremer\, Ausbilderin BM®\nKatharina Hesse\, Juristin und Mediatorin BM® \nKosten\n€ 2.450\,- (Ratenzahlung möglich) \nAnmeldung: Mediationsstelle BRÜCKENSCHLAG e.V. \nFlyer und Anmeldeunterlagen finden Sie hier.
URL:https://www.bs-lg.de/event/grundkurs-mediation-in-hamburg-hh27-block-1-2
CATEGORIES:Mediationsausbildung
ATTACH;FMTTYPE=image/jpeg:https://www.bs-lg.de/wp-content/uploads/Grundkurs_klein.jpg
END:VEVENT
END:VCALENDAR