BEGIN:VCALENDAR
VERSION:2.0
PRODID:-//Mediationsstelle Brückenschlag e.V. - ECPv5.11.0//NONSGML v1.0//EN
CALSCALE:GREGORIAN
METHOD:PUBLISH
X-WR-CALNAME:Mediationsstelle Brückenschlag e.V.
X-ORIGINAL-URL:https://www.bs-lg.de
X-WR-CALDESC:Veranstaltungen für Mediationsstelle Brückenschlag e.V.
BEGIN:VTIMEZONE
TZID:Europe/Paris
BEGIN:DAYLIGHT
TZOFFSETFROM:+0100
TZOFFSETTO:+0200
TZNAME:CEST
DTSTART:20210328T010000
END:DAYLIGHT
BEGIN:STANDARD
TZOFFSETFROM:+0200
TZOFFSETTO:+0100
TZNAME:CET
DTSTART:20211031T010000
END:STANDARD
END:VTIMEZONE
BEGIN:VEVENT
DTSTART;TZID=Europe/Paris:20210422T100000
DTEND;TZID=Europe/Paris:20210424T180000
DTSTAMP:20260424T011655
CREATED:20210111T131749Z
LAST-MODIFIED:20210128T120937Z
UID:4100-1619085600-1619287200@www.bs-lg.de
SUMMARY:Grundkurs Mediation in Oldenburg (OL03)\, Block I
DESCRIPTION:Im Grundkurs beschäftigen wir uns mit dem Phasenverlauf der Mediation und ihren grundlegenden Methoden. \nElemente aus der Gesprächstherapie\, der „Gewaltfreien Kommunikation“\, der Klärungshilfe sowie aus Moderation und lösungsorientierter Gesprächsführung werden eingesetzt und anwendungsbezogen trainiert. \nPersönliche Bedürfnisse und Gefühle spielen in der Konfliktbearbeitung eine große Rolle. Ein zentrales Anliegen im Grundkurs ist es\, zu lernen\, diese wahrzunehmen und mit ihnen umzugehen. \nTermine\n22.-24.04.2021\n10.-12.06.2021\n08.-10.07.2021\n09.-11.09.2021\n07.-09.10.2021\n25.-27.11.2021 \nDo bis Sa\, jeweils 10–18 Uhr \nIntervisionstage (Vorschlag)\n22.05.21\, 26.06.21\, 28.08.21\, 25.09.21 \nReferentInnen\nFrank Beckmann\, Ausbilder BM®\nJonas Binder\, Mediator und Rechtsanwalt \nKosten\n€ 2.160\,- (Ratenzahlung) \nAnmeldung\nMediationsstelle BRÜCKENSCHLAG e.V.\nFlyer und Anmeldeunterlagen finden Sie hier. \n  \n 
URL:https://www.bs-lg.de/event/grundkurs-mediation-in-hamburg-hh26-block-i-4
LOCATION:Waldhaus Wildenloh\, Friedrichsfehner Straße 44\, Edewecht-Wildenloh\, 26188
CATEGORIES:Mediationsausbildung
ATTACH;FMTTYPE=image/jpeg:https://www.bs-lg.de/wp-content/uploads/Grundkurs_klein.jpg
END:VEVENT
END:VCALENDAR