BEGIN:VCALENDAR
VERSION:2.0
PRODID:-//Mediationsstelle Brückenschlag e.V. - ECPv5.11.0//NONSGML v1.0//EN
CALSCALE:GREGORIAN
METHOD:PUBLISH
X-WR-CALNAME:Mediationsstelle Brückenschlag e.V.
X-ORIGINAL-URL:https://www.bs-lg.de
X-WR-CALDESC:Veranstaltungen für Mediationsstelle Brückenschlag e.V.
BEGIN:VTIMEZONE
TZID:Europe/Paris
BEGIN:DAYLIGHT
TZOFFSETFROM:+0100
TZOFFSETTO:+0200
TZNAME:CEST
DTSTART:20210328T010000
END:DAYLIGHT
BEGIN:STANDARD
TZOFFSETFROM:+0200
TZOFFSETTO:+0100
TZNAME:CET
DTSTART:20211031T010000
END:STANDARD
END:VTIMEZONE
BEGIN:VEVENT
DTSTART;TZID=Europe/Paris:20211125T100000
DTEND;TZID=Europe/Paris:20211127T180000
DTSTAMP:20260424T042207
CREATED:20210111T132854Z
LAST-MODIFIED:20210128T121407Z
UID:4109-1637834400-1638036000@www.bs-lg.de
SUMMARY:Grundkurs Mediation in Oldenburg (OL03)\, Block VI\, geschlossene Gruppe
DESCRIPTION:Im Grundkurs beschäftigen wir uns mit dem Phasenverlauf der Mediation und ihren grundlegenden Methoden. \nElemente aus der Gesprächstherapie\, der „Gewaltfreien Kommunikation“\, der Klärungshilfe sowie aus Moderation und lösungsorientierter Gesprächsführung werden eingesetzt und anwendungsbezogen trainiert. \nPersönliche Bedürfnisse und Gefühle spielen in der Konfliktbearbeitung eine große Rolle. Ein zentrales Anliegen im Grundkurs ist es\, zu lernen\, diese wahrzunehmen und mit ihnen umzugehen. \ngeschlossene Gruppe\, keine Anmeldung mehr möglich. \nTermine von weiteren Grundkursen finden Sie hier.
URL:https://www.bs-lg.de/event/grundkurs-mediation-in-hamburg-hh26-block-i-4-2-5
LOCATION:Waldhaus Wildenloh\, Friedrichsfehner Straße 44\, Edewecht-Wildenloh\, 26188
CATEGORIES:Mediationsausbildung
ATTACH;FMTTYPE=image/jpeg:https://www.bs-lg.de/wp-content/uploads/Grundkurs_klein.jpg
END:VEVENT
END:VCALENDAR