BEGIN:VCALENDAR
VERSION:2.0
PRODID:-//Mediationsstelle Brückenschlag e.V. - ECPv5.11.0//NONSGML v1.0//EN
CALSCALE:GREGORIAN
METHOD:PUBLISH
X-WR-CALNAME:Mediationsstelle Brückenschlag e.V.
X-ORIGINAL-URL:https://www.bs-lg.de
X-WR-CALDESC:Veranstaltungen für Mediationsstelle Brückenschlag e.V.
BEGIN:VTIMEZONE
TZID:Europe/Paris
BEGIN:DAYLIGHT
TZOFFSETFROM:+0100
TZOFFSETTO:+0200
TZNAME:CEST
DTSTART:20220327T010000
END:DAYLIGHT
BEGIN:STANDARD
TZOFFSETFROM:+0200
TZOFFSETTO:+0100
TZNAME:CET
DTSTART:20221030T010000
END:STANDARD
END:VTIMEZONE
BEGIN:VEVENT
DTSTART;TZID=Europe/Paris:20220512T100000
DTEND;TZID=Europe/Paris:20220514T180000
DTSTAMP:20260424T013247
CREATED:20210111T130533Z
LAST-MODIFIED:20210409T154854Z
UID:4090-1652349600-1652551200@www.bs-lg.de
SUMMARY:Grundkurs Mediation in Göttingen (Gö22)\, Block II\, geschlossene Gruppe
DESCRIPTION:in Kooperation mit dem VNB Göttingen \nIm Grundkurs beschäftigen wir uns mit dem Phasenverlauf der Mediation und ihren grundlegenden Methoden. \nElemente aus der Gesprächstherapie\, der „Gewaltfreien Kommunikation“\, der Klärungshilfe sowie aus Moderation und lösungsorientierter Gesprächsführung werden eingesetzt und anwendungsbezogen trainiert. \nPersönliche Bedürfnisse und Gefühle spielen in der Konfliktbearbeitung eine große Rolle. Ein zentrales Anliegen im Grundkurs ist es\, zu lernen\, diese wahrzunehmen und mit ihnen umzugehen. \nOrt\nGÖTTINGEN \ngeschlossene Gruppe\, keine Anmeldung mehr möglich.\n \nWeitere Grundkurse – auch an anderen Standorten – finden Sie hier. \n  \n 
URL:https://www.bs-lg.de/event/grundkurs-mediation-in-hamburg-hh26-block-i-3-2
LOCATION:VNB Göttingen\, Nikolaistr. 1 C\, Göttingen\, 37073
CATEGORIES:Mediationsausbildung
ATTACH;FMTTYPE=image/jpeg:https://www.bs-lg.de/wp-content/uploads/Grundkurs_klein.jpg
END:VEVENT
END:VCALENDAR