BEGIN:VCALENDAR
VERSION:2.0
PRODID:-//Mediationsstelle Brückenschlag e.V. - ECPv5.11.0//NONSGML v1.0//EN
CALSCALE:GREGORIAN
METHOD:PUBLISH
X-WR-CALNAME:Mediationsstelle Brückenschlag e.V.
X-ORIGINAL-URL:https://www.bs-lg.de
X-WR-CALDESC:Veranstaltungen für Mediationsstelle Brückenschlag e.V.
BEGIN:VTIMEZONE
TZID:Europe/Paris
BEGIN:DAYLIGHT
TZOFFSETFROM:+0100
TZOFFSETTO:+0200
TZNAME:CEST
DTSTART:20220327T010000
END:DAYLIGHT
BEGIN:STANDARD
TZOFFSETFROM:+0200
TZOFFSETTO:+0100
TZNAME:CET
DTSTART:20221030T010000
END:STANDARD
END:VTIMEZONE
BEGIN:VEVENT
DTSTART;TZID=Europe/Paris:20221123T093000
DTEND;TZID=Europe/Paris:20221123T173000
DTSTAMP:20260424T060357
CREATED:20211207T125027Z
LAST-MODIFIED:20211208T090933Z
UID:5805-1669195800-1669224600@www.bs-lg.de
SUMMARY:Weniger Stess mit dem Stress!
DESCRIPTION:Präsenz-Seminar in Lüneburg\nBildungs- und Erziehungsarbeit ist jetzt noch herausfordernder als in „normalen“ Zeiten. Unter knappen Ressourcen\, Zeitdruck\, hohen Erwartungen\, Enge\, Störungen\, fehlender Anerkennung\, mangelnder Kooperation\, usw. wird das\, was eigentlich Spaß macht\, manchmal zur Last. \nDas Fortbildungsangebot zielt darauf ab\, Ihnen leicht umzusetzende Übungen zur Steuerung der eigenen Emotionen an die Hand zu geben. Mit dem „Stimmungsruder in der Hand“ gelingt es leichter\, souverän und besser gelaunt durch die Windstärken des Corona-Alltags zu navigieren. \nTermin\n23.11.2022 von 9.30 – 17.30 Uhr \nOrt\nFREIRAUM Lüneburg\, Salzstraße 1\, 21335 Lüneburg \nReferentin\nAstrid Wichmann \nKosten\n150\,-€ pro Person\, bei zwei oder mehr Teilnehmern von einer Einrichtung/Schule gewähren wir 10% Rabatt. \nweitere Informationen und Anmeldung \n 
URL:https://www.bs-lg.de/event/grezen-setzen-aber-richtig-2-2-2
LOCATION:BRÜCKENSCHLAG e. V.\, Salzstr. 1 (Eingang Auf der Rübekuhle)\,\, Lüneburg\, Niedersachsen\, 21335\, Germany
CATEGORIES:Kita,Schule und Erziehung
ATTACH;FMTTYPE=image/jpeg:https://www.bs-lg.de/wp-content/uploads/Beitragsbild_weniger_Stress-1.jpg
END:VEVENT
END:VCALENDAR