BEGIN:VCALENDAR
VERSION:2.0
PRODID:-//Mediationsstelle Brückenschlag e.V. - ECPv5.11.0//NONSGML v1.0//EN
CALSCALE:GREGORIAN
METHOD:PUBLISH
X-WR-CALNAME:Mediationsstelle Brückenschlag e.V.
X-ORIGINAL-URL:https://www.bs-lg.de
X-WR-CALDESC:Veranstaltungen für Mediationsstelle Brückenschlag e.V.
BEGIN:VTIMEZONE
TZID:Europe/Paris
BEGIN:DAYLIGHT
TZOFFSETFROM:+0100
TZOFFSETTO:+0200
TZNAME:CEST
DTSTART:20220327T010000
END:DAYLIGHT
BEGIN:STANDARD
TZOFFSETFROM:+0200
TZOFFSETTO:+0100
TZNAME:CET
DTSTART:20221030T010000
END:STANDARD
END:VTIMEZONE
BEGIN:VEVENT
DTSTART;TZID=Europe/Paris:20220318T090000
DTEND;TZID=Europe/Paris:20220318T170000
DTSTAMP:20260424T084258
CREATED:20211101T090319Z
LAST-MODIFIED:20211201T091727Z
UID:5633-1647594000-1647622800@www.bs-lg.de
SUMMARY:Feedback geben und nehmen
DESCRIPTION:interaktives Online-Seminar\nDie Notwendigkeit einer gelingenden Zusammenarbeit ist in Schule und Kita unter den aktuellen Bedingungen so hoch wie nie zuvor. Gleichzeitig ist eine konstruktive Feedbackkultur eher noch ein „zartes Pflänzchen“\, ob im KitaTeam oder unter Kolleg:innen in bestehenden Klassen-\, Fach-\, oder Jahrgangsteams oder innerhalb der sich neu bildenden multiprofessionellen Teams. \nEine konstruktive Feedbackkultur unterstützt die Arbeitsqualität und die Arbeitszufriedenheit und hilft eine Wertschätzungskultur zu entwickeln. Dies gelingt aber oftmals nicht „von selbst“\, eine strukturierte Vorgehensweise hilft hier. \nDer Fortbildungstag bietet den Rahmen\, diese Vorgehensweise und die dazugehörige\, wertfreie Haltung kennen zu lernen. Anhand von Übungseinheiten werden die Schritte eines konstruktiven\, ressourcenorientierten Feedbacks ausprobiert. \nWeitere Informationen und Anmeldung hier
URL:https://www.bs-lg.de/event/feedback-geben-und-nehmen-2-2
LOCATION:ONLINE\, via Zoom\, Germany
ATTACH;FMTTYPE=image/jpeg:https://www.bs-lg.de/wp-content/uploads/Feedback_Beitragsbild.jpg
END:VEVENT
END:VCALENDAR