BEGIN:VCALENDAR
VERSION:2.0
PRODID:-//Mediationsstelle Brückenschlag e.V. - ECPv5.11.0//NONSGML v1.0//EN
CALSCALE:GREGORIAN
METHOD:PUBLISH
X-WR-CALNAME:Mediationsstelle Brückenschlag e.V.
X-ORIGINAL-URL:https://www.bs-lg.de
X-WR-CALDESC:Veranstaltungen für Mediationsstelle Brückenschlag e.V.
BEGIN:VTIMEZONE
TZID:Europe/Paris
BEGIN:DAYLIGHT
TZOFFSETFROM:+0100
TZOFFSETTO:+0200
TZNAME:CEST
DTSTART:20220327T010000
END:DAYLIGHT
BEGIN:STANDARD
TZOFFSETFROM:+0200
TZOFFSETTO:+0100
TZNAME:CET
DTSTART:20221030T010000
END:STANDARD
END:VTIMEZONE
BEGIN:VEVENT
DTSTART;TZID=Europe/Paris:20220921T093000
DTEND;TZID=Europe/Paris:20220923T173000
DTSTAMP:20260424T084436
CREATED:20220513T120450Z
LAST-MODIFIED:20220513T120450Z
UID:6544-1663752600-1663954200@www.bs-lg.de
SUMMARY:Einführung in die Gewaltfreie Kommunikation
DESCRIPTION:Die Gewaltfreie Kommunikation (GFK) wird auch Einfühlsame Kommunikation genannt und steht für „den Kontakt zum Gegenüber suchen\, wenn es mal nicht gut läuft“\, für vier Schritte der Gesprächsführung und für freundlich-achtsamen Umgang miteinander. \nDas Potential der Einfühlsamen Kommunikation liegt aber nicht nur in der Kommunikation mit dem Gegenüber\, sondern auch mit sich selbst. Die GFK hilft\, sich mit sich selbst auseinander zu setzen\, die eigenen Handlungsmotive zu verstehen und sich auf verbindliche Weise für sich und die eigenen Wünsche und Ziele einzusetzen. \nMit dem Kommunikationsmodell der vier Schritte stellt die GFK Tools zur Selbstreflexion und Selbstwirksamkeit zur Verfügung und eine innere Haltung\, die gut mich sich verbunden auf andere Menschen zugeht. \nIm Rahmen des Seminars werden die vier Schritte Beobachtung/Gefühl/Bedürfnis und Bitte vorgestellt und dann aktiv in Übungen anhand eigener Beispiele ausprobiert. \nAusführlich beschäftigen wir uns mit dem Grundverständnis der GFK\, wie „ein Wolf zur Giraffe werden kann“. \nOrt\nBRÜCKENSCHLAG\, Salzstr. 1 (Eingang Auf der Rübekuhle)\, 21335 Lüneburg \nSeminarzeiten\n21.-23.09.2022 von 9.30 – 17.30 Uhr\n \nReferentin\nMone Drews\, Mediatorin und GFK-Trainerin \nKosten\n€ 280\,- \nweitere Informationen und Anmeldung hier
URL:https://www.bs-lg.de/event/einfuehrungsseminar-gfk-online-2-5-2
LOCATION:BRÜCKENSCHLAG e. V.\, Salzstr. 1 (Eingang Auf der Rübekuhle)\,\, Lüneburg\, Niedersachsen\, 21335\, Germany
CATEGORIES:Angebote für MediatorInnen,Einführung,GFK
ATTACH;FMTTYPE=image/jpeg:https://www.bs-lg.de/wp-content/uploads/Giraffe_Beitragsbild-scaled.jpg
END:VEVENT
END:VCALENDAR