BEGIN:VCALENDAR
VERSION:2.0
PRODID:-//Mediationsstelle Brückenschlag e.V. - ECPv5.11.0//NONSGML v1.0//EN
CALSCALE:GREGORIAN
METHOD:PUBLISH
X-WR-CALNAME:Mediationsstelle Brückenschlag e.V.
X-ORIGINAL-URL:https://www.bs-lg.de
X-WR-CALDESC:Veranstaltungen für Mediationsstelle Brückenschlag e.V.
BEGIN:VTIMEZONE
TZID:Europe/Paris
BEGIN:DAYLIGHT
TZOFFSETFROM:+0100
TZOFFSETTO:+0200
TZNAME:CEST
DTSTART:20220327T010000
END:DAYLIGHT
BEGIN:STANDARD
TZOFFSETFROM:+0200
TZOFFSETTO:+0100
TZNAME:CET
DTSTART:20221030T010000
END:STANDARD
END:VTIMEZONE
BEGIN:VEVENT
DTSTART;TZID=Europe/Paris:20220209T090000
DTEND;TZID=Europe/Paris:20220210T170000
DTSTAMP:20260424T012949
CREATED:20210108T165533Z
LAST-MODIFIED:20210727T131603Z
UID:4025-1644397200-1644512400@www.bs-lg.de
SUMMARY:Einfühlsame Kommunikation mit Kindern
DESCRIPTION:Eine Einführung in die Gewaltfreie Kommunikation nach Marshall Rosenberg und in das Konzept Giraffentraum®\nWenn es mit der Verständigung trotz aller Bemühungen nicht klappt\, dann kann es daran liegen\, dass nicht „dieselbe Sprache“ gesprochen wird. Die „Giraffensprache“ der Gewaltfreien Kommunikation ist für Erwachsene und Kinder gleichermaßen erlernbar und hilft Gefühle und Bedürfnisse wahrzunehmen\, zu benennen und in konflikthaften Situationen auf Augenhöhe nach Lösungen zu suchen. \nOrt\ninteraktives Onlinesemianr via ZOOM \nSeminarzeiten\n9 – 17 Uhr \nReferentin\nMone Drews \nKosten\n280\,-€ pro Person\, bei zwei oder mehr Teilnehmern von einer Einrichtung/Schule gewähren wir 10% Rabatt. \nweitere Informationen und Anmeldung hier
URL:https://www.bs-lg.de/event/einfuehlsame-kommunikation-mit-kindern-2
LOCATION:ONLINE\, via Zoom\, Germany
CATEGORIES:Kita,Schule und Erziehung
ATTACH;FMTTYPE=image/jpeg:https://www.bs-lg.de/wp-content/uploads/GFK_Kinder_KLEIN.jpg
END:VEVENT
END:VCALENDAR