BEGIN:VCALENDAR
VERSION:2.0
PRODID:-//Mediationsstelle Brückenschlag e.V. - ECPv5.11.0//NONSGML v1.0//EN
CALSCALE:GREGORIAN
METHOD:PUBLISH
X-WR-CALNAME:Mediationsstelle Brückenschlag e.V.
X-ORIGINAL-URL:https://www.bs-lg.de
X-WR-CALDESC:Veranstaltungen für Mediationsstelle Brückenschlag e.V.
BEGIN:VTIMEZONE
TZID:Europe/Paris
BEGIN:DAYLIGHT
TZOFFSETFROM:+0100
TZOFFSETTO:+0200
TZNAME:CEST
DTSTART:20230326T010000
END:DAYLIGHT
BEGIN:STANDARD
TZOFFSETFROM:+0200
TZOFFSETTO:+0100
TZNAME:CET
DTSTART:20231029T010000
END:STANDARD
END:VTIMEZONE
BEGIN:VEVENT
DTSTART;TZID=Europe/Paris:20231123T090000
DTEND;TZID=Europe/Paris:20231124T170000
DTSTAMP:20260423T233741
CREATED:20230821T103645Z
LAST-MODIFIED:20230821T103742Z
UID:7351-1700730000-1700845200@www.bs-lg.de
SUMMARY:Einfühlsame Kommunikation mit Kindern - ONLINE
DESCRIPTION:Eine Einführung in die Gewaltfreie Kommunikation nach Marshall Rosenberg und in das Konzept Giraffentraum®\nWenn es mit der Verständigung trotz aller Bemühungen nicht klappt\, dann kann es daran liegen\, dass nicht „dieselbe Sprache“ gesprochen wird. Die „Giraffensprache“ der Gewaltfreien Kommunikation ist für Erwachsene und Kinder gleichermaßen erlernbar und hilft Gefühle und Bedürfnisse wahrzunehmen\, zu benennen und in konflikthaften Situationen auf Augenhöhe nach Lösungen zu suchen. \nOrt\ninteraktives Onlinesemianr via ZOOM \nSeminarzeiten\n9 – 17 Uhr \nReferentin\nMone Drews \nKosten\n280\,-€ pro Person\, bei zwei oder mehr Teilnehmern von einer Einrichtung/Schule gewähren wir 10% Rabatt. \nInformationen und Anmeldung.
URL:https://www.bs-lg.de/event/einfuehlsame-kommunikation-mit-kindern-2-2-3-2
CATEGORIES:Kita,Schule und Erziehung
ATTACH;FMTTYPE=image/jpeg:https://www.bs-lg.de/wp-content/uploads/GFK_Kinder_KLEIN.jpg
END:VEVENT
END:VCALENDAR