BEGIN:VCALENDAR
VERSION:2.0
PRODID:-//Mediationsstelle Brückenschlag e.V. - ECPv5.11.0//NONSGML v1.0//EN
CALSCALE:GREGORIAN
METHOD:PUBLISH
X-WR-CALNAME:Mediationsstelle Brückenschlag e.V.
X-ORIGINAL-URL:https://www.bs-lg.de
X-WR-CALDESC:Veranstaltungen für Mediationsstelle Brückenschlag e.V.
BEGIN:VTIMEZONE
TZID:Europe/Paris
BEGIN:DAYLIGHT
TZOFFSETFROM:+0100
TZOFFSETTO:+0200
TZNAME:CEST
DTSTART:20230326T010000
END:DAYLIGHT
BEGIN:STANDARD
TZOFFSETFROM:+0200
TZOFFSETTO:+0100
TZNAME:CET
DTSTART:20231029T010000
END:STANDARD
END:VTIMEZONE
BEGIN:VEVENT
DTSTART;TZID=Europe/Paris:20231004T180000
DTEND;TZID=Europe/Paris:20231004T180000
DTSTAMP:20260423T210034
CREATED:20230904T110047Z
LAST-MODIFIED:20230904T110047Z
UID:7411-1696442400-1696442400@www.bs-lg.de
SUMMARY:Infoabend Coachingausbildung für Mediator:innen (C14) in Hamburg
DESCRIPTION:Beim Informationsabend stellen wir die Inhalte der Weiterbildung da. Sie lernen eine der Referentinnen und mögliche weitere Teilnehmen kennen und können Fragen stellen. \nBitte melden Sie sich zur Informationsveranstaltung in der Geschäftsstelle unter info@bs-lg.de oder 0413142211 an. \nDie Ausbildung zum Coach setzt mit ihrem systemischen\, lösungs-\, ressourcen- und entwicklungsorientierten Ansatz auf den Mediationskenntnissen auf. \nSie erfahren Relevantes über Coachingprozesse\, deren Durchführung\, notwendige Rahmenbedingungen und machbare Aufträge. Sie lernen Methoden kennen und nutzen die praktische Erprobung für sich und Ihre Kunden. Sie haben die Chance ein eigenes Profil als Coach zu entwickeln\, in dem Sie sich über Ihre Wirkung\, Ihre Stärken und Potentiale klarer werden. Sie können ein marktgerechtes Angebot als MediatorIn und Coach entwickeln. \nTeilnahmevoraussetzung ist eine 120 h Mediationsausbildung beim BRÜCKENSCHLAG oder anderen anerkannten Weiterbildungseinrichtungen. \nAusführliche Informationen zur Coachingausbildung finden Sie hier in den Infoseiten ab Seite 28. \nTermine\n14.-16.12.2023\n18.-20.01.2024\n22.-24.02.2024\n04.-06.04.2024\n06.-08.06.2024 \nDo bis Sa\, jeweils 10–18 Uhr in Hamburg \nIntervisionstage (Vorschlag)\n13.01.2024\, 10.02.2024\, 09.03.2024\, 18.05.2024 \nFlyer und Anmeldeunterlagen finden Sie hier.
URL:https://www.bs-lg.de/event/coachingausbildung-fuer-mediatorinnen-c12-info-2-3
CATEGORIES:Angebote für MediatorInnen,Mediationsausbildung
ATTACH;FMTTYPE=image/jpeg:https://www.bs-lg.de/wp-content/uploads/Coachingausbildung.jpg
END:VEVENT
END:VCALENDAR