BEGIN:VCALENDAR
VERSION:2.0
PRODID:-//Mediationsstelle Brückenschlag e.V. - ECPv5.11.0//NONSGML v1.0//EN
CALSCALE:GREGORIAN
METHOD:PUBLISH
X-WR-CALNAME:Mediationsstelle Brückenschlag e.V.
X-ORIGINAL-URL:https://www.bs-lg.de
X-WR-CALDESC:Veranstaltungen für Mediationsstelle Brückenschlag e.V.
BEGIN:VTIMEZONE
TZID:Europe/Paris
BEGIN:DAYLIGHT
TZOFFSETFROM:+0100
TZOFFSETTO:+0200
TZNAME:CEST
DTSTART:20220327T010000
END:DAYLIGHT
BEGIN:STANDARD
TZOFFSETFROM:+0200
TZOFFSETTO:+0100
TZNAME:CET
DTSTART:20221030T010000
END:STANDARD
END:VTIMEZONE
BEGIN:VEVENT
DTSTART;TZID=Europe/Paris:20221117T180000
DTEND;TZID=Europe/Paris:20221117T180000
DTSTAMP:20260423T174841
CREATED:20220425T122620Z
LAST-MODIFIED:20220425T122620Z
UID:6399-1668708000-1668708000@www.bs-lg.de
SUMMARY:Infoabend Coachingausbildung für Mediator:innen (Co02) Online
DESCRIPTION:Beim Informationsabend stellen wir die Inhalte der Weiterbildung da. Sie lernen eine der Referentinnen und mögliche weitere Teilnehmen kennen und können Fragen stellen. \nBitte melden Sie sich zur Informationsveranstaltung in der Geschäftsstelle unter info@bs-lg.de oder 0413142211 an. \nDie Ausbildung zum Coach setzt mit ihrem systemischen\, lösungs-\, ressourcen- und entwicklungsorientierten Ansatz auf den Mediationskenntnissen auf. \nSie erfahren Relevantes über Coachingprozesse\, deren Durchführung\, notwendige Rahmenbedingungen und machbare Aufträge. Sie lernen Methoden kennen und nutzen die praktische Erprobung für sich und Ihre Kunden. Sie haben die Chance ein eigenes Profil als Coach zu entwickeln\, in dem Sie sich über Ihre Wirkung\, Ihre Stärken und Potentiale klarer werden. Sie können ein marktgerechtes Angebot als MediatorIn und Coach entwickeln. \nTeilnahmevoraussetzung ist eine 120 h Mediationsausbildung beim BRÜCKENSCHLAG oder anderen anerkannten Weiterbildungseinrichtungen. \nAusführliche Informationen zur Coachingausbildung finden Sie hier in den Infoseiten ab Seite 28. \nTermine\n \nBlock I online: 24.-26.03.2023\nBlock II online: 15.+16.06.2023\nBlock III online: 03.-05.07.2023\nBlock IV präsent: 25.-29.09.2023\, Kompaktwoche im Tagungshaus Schloss Buchenau\nBlock V online: 06.-08.11.2023 \nIntervisionstage \nin Kleingruppen nach Absprachen unter den Teilnehmenden \nReferentinnen\nMarion Bremer\, Ausbilderin BM®\nAstrid Wichmann\, Ausbilderin BM® \nAnmeldung: Mediationsstelle BRÜCKENSCHLAG e.V.\, \nDen Flyer und das Anmeldeformular finden Sie hier.
URL:https://www.bs-lg.de/event/coachingausbildung-fuer-mediatorinnen-c12-info-2-2
LOCATION:ONLINE\, via Zoom\, Germany
CATEGORIES:Angebote für MediatorInnen,Mediationsausbildung
ATTACH;FMTTYPE=image/jpeg:https://www.bs-lg.de/wp-content/uploads/Puzzleteil-scaled-e1645621183492.jpeg
END:VEVENT
END:VCALENDAR