BEGIN:VCALENDAR
VERSION:2.0
PRODID:-//Mediationsstelle Brückenschlag e.V. - ECPv5.11.0//NONSGML v1.0//EN
CALSCALE:GREGORIAN
METHOD:PUBLISH
X-WR-CALNAME:Mediationsstelle Brückenschlag e.V.
X-ORIGINAL-URL:https://www.bs-lg.de
X-WR-CALDESC:Veranstaltungen für Mediationsstelle Brückenschlag e.V.
BEGIN:VTIMEZONE
TZID:Europe/Paris
BEGIN:DAYLIGHT
TZOFFSETFROM:+0100
TZOFFSETTO:+0200
TZNAME:CEST
DTSTART:20230326T010000
END:DAYLIGHT
BEGIN:STANDARD
TZOFFSETFROM:+0200
TZOFFSETTO:+0100
TZNAME:CET
DTSTART:20231029T010000
END:STANDARD
END:VTIMEZONE
BEGIN:VEVENT
DTSTART;TZID=Europe/Paris:20230831T100000
DTEND;TZID=Europe/Paris:20230902T180000
DTSTAMP:20260423T223302
CREATED:20220223T115550Z
LAST-MODIFIED:20220223T125749Z
UID:6081-1693476000-1693677600@www.bs-lg.de
SUMMARY:Coachingausbildung für Mediator:innen in Hamburg (C13)\, Block 5\, geschlossene Gruppe
DESCRIPTION:Die Ausbildung zum Coach setzt mit ihrem systemischen\, lösungs-\, ressourcen- und entwicklungsorientierten Ansatz auf den Mediationskenntnissen auf. \nSie erfahren Relevantes über Coachingprozesse\, deren Durchführung\, notwendige Rahmenbedingungen und machbare Aufträge. Sie lernen Methoden kennen und nutzen die praktische Erprobung für sich und Ihre Kunden. Sie haben die Chance ein eigenes Profil als Coach zu entwickeln\, in dem Sie sich über Ihre Wirkung\, Ihre Stärken und Potentiale klarer werden. Sie können ein marktgerechtes Angebot als MediatorIn und Coach entwickeln. \nDies ist eine geschlossene Gruppe\, eine Anmeldung ist nicht mehr möglich \nTermine und Infos zur nächsten Coachingausbildung finden Sie hier.
URL:https://www.bs-lg.de/event/coachingausbildung-fuer-mediatorinnen-c12-block-5-3
LOCATION:Seniorenzentrum St. Markus\, Gärtnerstr. 63\, Hamburg\, 20253
CATEGORIES:Angebote für MediatorInnen,Mediationsausbildung
ATTACH;FMTTYPE=image/jpeg:https://www.bs-lg.de/wp-content/uploads/Coachingausbildung.jpg
END:VEVENT
END:VCALENDAR