BEGIN:VCALENDAR
VERSION:2.0
PRODID:-//Mediationsstelle Brückenschlag e.V. - ECPv5.11.0//NONSGML v1.0//EN
CALSCALE:GREGORIAN
METHOD:PUBLISH
X-WR-CALNAME:Mediationsstelle Brückenschlag e.V.
X-ORIGINAL-URL:https://www.bs-lg.de
X-WR-CALDESC:Veranstaltungen für Mediationsstelle Brückenschlag e.V.
BEGIN:VTIMEZONE
TZID:Europe/Paris
BEGIN:DAYLIGHT
TZOFFSETFROM:+0100
TZOFFSETTO:+0200
TZNAME:CEST
DTSTART:20220327T010000
END:DAYLIGHT
BEGIN:STANDARD
TZOFFSETFROM:+0200
TZOFFSETTO:+0100
TZNAME:CET
DTSTART:20221030T010000
END:STANDARD
END:VTIMEZONE
BEGIN:VEVENT
DTSTART;TZID=Europe/Paris:20221128T090000
DTEND;TZID=Europe/Paris:20221128T163000
DTSTAMP:20260424T084824
CREATED:20220517T155527Z
LAST-MODIFIED:20220706T081553Z
UID:6552-1669626000-1669653000@www.bs-lg.de
SUMMARY:1. Lüneburger Kita-Fachtag - Es sich leichter machen! (AUSGEBUCHT)
DESCRIPTION:Seit nunmehr über 25 Jahren sind wir mit dem Thema Kommunikation unterwegs und begleiten dabei auch immer mehr Kitas durch Fortbildungen und Prozessbegleitungen. Nun möchten wir unseren vielfältigen Erfahrungen gerne einen größeren Rahmen geben. \nDaher soll zukünftig einmal jährlich ein Kita-Fachtag in Lüneburg stattfinden. Dort möchten wir durch verschiedene Inputs neue Impulse\, einen Raum für Reflexion eigener Erfahrungen und Möglichkeiten für Austausch und Vernetzung bieten. \nDer Fachtag richtet sich an alle in Kita-Tätigen. Neben Vortrag und Workshops gibt es Zeit und Raum sich auszutauschen\, voneinander zu lernen und sich zu vernetzen. \nEs sich leichter machen! ist das Motto unseres 1. Lüneburger Kita-Fachtages. Neben dem Einführungsvortrag „Wann lohnt es sich\, dass jemand von außen dabei ist …“ erwarten Sie Workshops zu folgenden Themen: \n\nWas ist nur los mit dem Kind!?\nOhne Stress geht’s auch!\nBeschweren erwünscht!\nWie reden wir über unsere Zusammenarbeit?\nKommunikationstraining für die Kleinen\n\nTermin: 28.11.2022\nOrt: FREIRAUM LÜNEBURG\, Salzstr. 1\nKosten: € 95\,-\nAnmeldung: BRÜCKENSCHLAG\, info@bs-lg.de\, 04131 42211 \nMehr Informationen und die Anmeldung finden Sie hier. \nDiese Veranstaltung ist bereits ausgebucht.  \n  \n 
URL:https://www.bs-lg.de/event/1-lueneburger-kita-fachtag-es-sich-leichter-machen
LOCATION:BRÜCKENSCHLAG e. V.\, Salzstr. 1 (Eingang Auf der Rübekuhle)\,\, Lüneburg\, Niedersachsen\, 21335\, Germany
ATTACH;FMTTYPE=image/jpeg:https://www.bs-lg.de/wp-content/uploads/Kita_Medi_Beitragsbild.jpg
END:VEVENT
END:VCALENDAR